BEGIN:VCALENDAR
VERSION:2.0
PRODID:DPCALENDAR
CALSCALE:GREGORIAN
BEGIN:VTIMEZONE
TZID:Europe/Tallinn
BEGIN:STANDARD
DTSTART:20251026T010000
TZOFFSETFROM:+0300
TZOFFSETTO:+0200
TZNAME:EET
END:STANDARD
BEGIN:STANDARD
DTSTART:20261025T010000
TZOFFSETFROM:+0300
TZOFFSETTO:+0200
TZNAME:EET
END:STANDARD
BEGIN:DAYLIGHT
DTSTART:20260329T010000
TZOFFSETFROM:+0200
TZOFFSETTO:+0300
TZNAME:EEST
END:DAYLIGHT
END:VTIMEZONE
X-WR-TIMEZONE:Europe/Tallinn
BEGIN:VEVENT
DTSTART;TZID=Europe/Tallinn:20250707T110000
DTEND;TZID=Europe/Tallinn:20250803T235900
UID:428D7B4E-7738-4406-B06C-96E31FA3C530
SUMMARY:Võsupere raamatukogu puhkab!
CREATED:20250307T095852Z
DTSTAMP:20250307T095852Z
URL:https://www.raamatukogu.haljala.ee/syndmused/võsupere-raamatukogu-puhkab
LAST-MODIFIED:20250307T095852Z
SEQUENCE:0
X-ACCESS:1
X-HITS:19
X-COLOR:097df0
X-SHOW-END-TIME:1
END:VEVENT
BEGIN:VEVENT
DTSTART;TZID=Europe/Tallinn:20250908T110000
DTEND;TZID=Europe/Tallinn:20250914T235900
UID:38378914-DEE8-4266-91E9-02141C2765D2
SUMMARY:Võsupere raamatukogu puhkab!
CREATED:20250307T100349Z
DTSTAMP:20250307T100349Z
URL:https://www.raamatukogu.haljala.ee/syndmused/võsupere-raamatukogu-puhkab-2
LAST-MODIFIED:20250307T100357Z
SEQUENCE:8
X-ACCESS:1
X-HITS:12
X-COLOR:097df0
X-SHOW-END-TIME:1
END:VEVENT
END:VCALENDAR