BEGIN:VCALENDAR
VERSION:2.0
PRODID:DPCALENDAR
CALSCALE:GREGORIAN
BEGIN:VTIMEZONE
TZID:Europe/Tallinn
BEGIN:STANDARD
DTSTART:20251026T010000
TZOFFSETFROM:+0300
TZOFFSETTO:+0200
TZNAME:EET
END:STANDARD
BEGIN:STANDARD
DTSTART:20261025T010000
TZOFFSETFROM:+0300
TZOFFSETTO:+0200
TZNAME:EET
END:STANDARD
BEGIN:DAYLIGHT
DTSTART:20260329T010000
TZOFFSETFROM:+0200
TZOFFSETTO:+0300
TZNAME:EEST
END:DAYLIGHT
END:VTIMEZONE
X-WR-TIMEZONE:Europe/Tallinn
BEGIN:VEVENT
DTSTART;TZID=Europe/Tallinn:20230324T153000
DTEND;TZID=Europe/Tallinn:20230324T170000
UID:F7DE95D0-B521-4E6C-8422-05E950E9B9EE
SUMMARY:Seminar "Teadlikult toetatud immuunsüsteem"
CREATED:20230322T114202Z
DTSTAMP:20230322T114202Z
URL:https://www.raamatukogu.haljala.ee/syndmused/seminar-teadlikult-toetatud-immuunsüsteem
LAST-MODIFIED:20230322T114232Z
SEQUENCE:30
X-ACCESS:1
X-HITS:11
X-COLOR:62accc
X-IMAGE-INTRO:https://www.raamatukogu.haljala.ee/images/Vergis_24.03.png
X-SHOW-END-TIME:1
END:VEVENT
END:VCALENDAR