BEGIN:VCALENDAR
VERSION:2.0
PRODID:DPCALENDAR
CALSCALE:GREGORIAN
BEGIN:VTIMEZONE
TZID:Europe/Tallinn
BEGIN:STANDARD
DTSTART:20251026T010000
TZOFFSETFROM:+0300
TZOFFSETTO:+0200
TZNAME:EET
END:STANDARD
BEGIN:STANDARD
DTSTART:20261025T010000
TZOFFSETFROM:+0300
TZOFFSETTO:+0200
TZNAME:EET
END:STANDARD
BEGIN:DAYLIGHT
DTSTART:20260329T010000
TZOFFSETFROM:+0200
TZOFFSETTO:+0300
TZNAME:EEST
END:DAYLIGHT
END:VTIMEZONE
X-WR-TIMEZONE:Europe/Tallinn
BEGIN:VEVENT
DTSTART;TZID=Europe/Tallinn:20230412T120000
DTEND;TZID=Europe/Tallinn:20230412T133000
UID:30467D7A-28D6-437A-AF63-095A48839253
SUMMARY:Jüripäeva maagia rahvakalendris
CREATED:20230330T094254Z
DTSTAMP:20230330T094254Z
URL:https://www.raamatukogu.haljala.ee/syndmused/jüripäeva-maagia-rahvakalendris
LAST-MODIFIED:20230330T094300Z
SEQUENCE:6
X-ACCESS:1
X-HITS:15
X-COLOR:6a7dab
X-IMAGE-INTRO:https://www.raamatukogu.haljala.ee/images/jüripäev.png
X-SHOW-END-TIME:1
END:VEVENT
BEGIN:VEVENT
DTSTART;TZID=Europe/Tallinn:20250319T130000
DTEND;TZID=Europe/Tallinn:20250319T140000
UID:A849DC99-5278-4C9A-81B5-800578CBC10D
SUMMARY:Aasta lind Kormoran - Karepa raamatukogus
CREATED:20250307T124515Z
DTSTAMP:20250307T124515Z
URL:https://www.raamatukogu.haljala.ee/syndmused/aasta-lind-kormoran-karepa-raamatukogus
LAST-MODIFIED:20250307T124515Z
SEQUENCE:0
X-ACCESS:1
X-HITS:0
X-COLOR:21f516
X-SHOW-END-TIME:1
END:VEVENT
BEGIN:VEVENT
DTSTART;TZID=Europe/Tallinn:20250322T100000
DTEND;TZID=Europe/Tallinn:20250322T140000
UID:30C9280C-0C31-44DB-A78B-7B59EF037942
SUMMARY:Karepa raamatukogu puhkab!
CREATED:20250307T121502Z
DTSTAMP:20250307T121502Z
URL:https://www.raamatukogu.haljala.ee/syndmused/karepa-raamatukogu-puhkab-6
LAST-MODIFIED:20250307T121502Z
SEQUENCE:0
X-ACCESS:1
X-HITS:7
X-COLOR:21f516
X-SHOW-END-TIME:1
END:VEVENT
BEGIN:VEVENT
DTSTART;TZID=Europe/Tallinn:20250519T100000
DTEND;TZID=Europe/Tallinn:20250601T235900
UID:D6452C19-845E-46CD-A685-06FDFD20E11C
SUMMARY:Karepa raamatukogu puhkab!
CREATED:20250307T121346Z
DTSTAMP:20250307T121346Z
URL:https://www.raamatukogu.haljala.ee/syndmused/karepa-raamatukogu-puhkab-5
LAST-MODIFIED:20250307T121427Z
SEQUENCE:41
X-ACCESS:1
X-HITS:1
X-COLOR:21f516
X-SHOW-END-TIME:1
END:VEVENT
BEGIN:VEVENT
DTSTART;TZID=Europe/Tallinn:20250915T100000
DTEND;TZID=Europe/Tallinn:20250928T235900
UID:D24FEE5B-54BF-4700-A53A-64AE60A489B5
SUMMARY:Karepa raamatukogu puhkab!
CREATED:20250307T121839Z
DTSTAMP:20250307T121839Z
URL:https://www.raamatukogu.haljala.ee/syndmused/karepa-raamatukogu-puhkab-7
LAST-MODIFIED:20250307T121839Z
SEQUENCE:0
X-ACCESS:1
X-HITS:16
X-COLOR:21f516
X-SHOW-END-TIME:1
END:VEVENT
BEGIN:VEVENT
DTSTART;TZID=Europe/Tallinn:20251124T100000
DTEND;TZID=Europe/Tallinn:20251130T235900
UID:F2F08975-C679-4171-A6CB-C4F63804A812
SUMMARY:Karepa raamatukogu puhkab!
CREATED:20250307T122030Z
DTSTAMP:20250307T122030Z
URL:https://www.raamatukogu.haljala.ee/syndmused/karepa-raamatukogu-puhkab-8
LAST-MODIFIED:20250307T122030Z
SEQUENCE:0
X-ACCESS:1
X-HITS:8
X-COLOR:21f516
X-SHOW-END-TIME:1
END:VEVENT
END:VCALENDAR